{
 "currentVersion": 11.5,
 "cimVersion": "3.5.0",
 "serviceDescription": "This data represents a Digital Elevation Model (DEM), or bare-earth elevation surface, of the County of Westchester, New York, in a grid where each grid cell is 3-meters (9.84 feet) by 3-meters. This grid was produced from LiDAR data acquired in spring, 2009.",
 "mapName": "Westchester County Digital Elevation Model",
 "description": "This data represents a Digital Elevation Model (DEM), or bare-earth elevation surface, of the County of Westchester, New York, in a grid where each grid cell is 3-meters (9.84 feet) by 3-meters. This grid was produced from LiDAR data acquired in spring, 2009.",
 "copyrightText": "",
 "supportsDynamicLayers": true,
 "layers": [
  {
   "id": 0,
   "name": "Hillshade",
   "parentLayerId": -1,
   "defaultVisibility": true,
   "subLayerIds": [
    1,
    2,
    3
   ],
   "minScale": 0,
   "maxScale": 0,
   "type": "Mosaic Layer",
   "supportsDynamicLegends": false
  },
  {
   "id": 1,
   "name": "Boundary",
   "parentLayerId": 0,
   "defaultVisibility": false,
   "subLayerIds": null,
   "minScale": 0,
   "maxScale": 0,
   "type": "Feature Layer",
   "geometryType": "esriGeometryPolygon",
   "supportsDynamicLegends": true
  },
  {
   "id": 2,
   "name": "Footprint",
   "parentLayerId": 0,
   "defaultVisibility": false,
   "subLayerIds": null,
   "minScale": 0,
   "maxScale": 0,
   "type": "Feature Layer",
   "geometryType": "esriGeometryPolygon",
   "supportsDynamicLegends": true
  },
  {
   "id": 3,
   "name": "Image",
   "parentLayerId": 0,
   "defaultVisibility": true,
   "subLayerIds": null,
   "minScale": 0,
   "maxScale": 0,
   "type": "Raster Layer",
   "supportsDynamicLegends": true
  },
  {
   "id": 4,
   "name": "Digital Elevatin Model",
   "parentLayerId": -1,
   "defaultVisibility": true,
   "subLayerIds": [
    5,
    6,
    7
   ],
   "minScale": 0,
   "maxScale": 0,
   "type": "Mosaic Layer",
   "supportsDynamicLegends": false
  },
  {
   "id": 5,
   "name": "Boundary",
   "parentLayerId": 4,
   "defaultVisibility": false,
   "subLayerIds": null,
   "minScale": 0,
   "maxScale": 0,
   "type": "Feature Layer",
   "geometryType": "esriGeometryPolygon",
   "supportsDynamicLegends": true
  },
  {
   "id": 6,
   "name": "Footprint",
   "parentLayerId": 4,
   "defaultVisibility": false,
   "subLayerIds": null,
   "minScale": 0,
   "maxScale": 0,
   "type": "Feature Layer",
   "geometryType": "esriGeometryPolygon",
   "supportsDynamicLegends": true
  },
  {
   "id": 7,
   "name": "Image",
   "parentLayerId": 4,
   "defaultVisibility": true,
   "subLayerIds": null,
   "minScale": 0,
   "maxScale": 0,
   "type": "Raster Layer",
   "supportsDynamicLegends": true
  }
 ],
 "tables": [],
 "spatialReference": {
  "wkid": 102715,
  "latestWkid": 2260,
  "xyTolerance": 0.0032808333333333335,
  "zTolerance": 2.0E-4,
  "mTolerance": 2.0E-4,
  "falseX": -17954600,
  "falseY": -46918100,
  "xyUnits": 1.3725506987923574E8,
  "falseZ": -100000,
  "zUnits": 10000,
  "falseM": -100000,
  "mUnits": 10000
 },
 "singleFusedMapCache": true,
 "tileInfo": {
  "rows": 512,
  "cols": 512,
  "dpi": 128,
  "format": "PNG24",
  "compressionQuality": 0,
  "origin": {
   "x": -17954600,
   "y": 18705700
  },
  "spatialReference": {
   "wkid": 102715,
   "latestWkid": 2260,
   "xyTolerance": 0.0032808333333333335,
   "zTolerance": 2.0E-4,
   "mTolerance": 2.0E-4,
   "falseX": -17954600,
   "falseY": -46918100,
   "xyUnits": 1.3725506987923574E8,
   "falseZ": -100000,
   "zUnits": 10000,
   "falseM": -100000,
   "mUnits": 10000
  },
  "lods": [
   {
    "level": 0,
    "resolution": 260.4166666666667,
    "scale": 400000
   },
   {
    "level": 1,
    "resolution": 175.78125000000003,
    "scale": 270000
   },
   {
    "level": 2,
    "resolution": 130.20833333333334,
    "scale": 200000
   },
   {
    "level": 3,
    "resolution": 97.65625000000001,
    "scale": 150000
   },
   {
    "level": 4,
    "resolution": 65.10416666666667,
    "scale": 100000
   },
   {
    "level": 5,
    "resolution": 32.552083333333336,
    "scale": 50000
   },
   {
    "level": 6,
    "resolution": 22.786458333333336,
    "scale": 35000
   },
   {
    "level": 7,
    "resolution": 13.020833333333334,
    "scale": 20000
   },
   {
    "level": 8,
    "resolution": 6.510416666666667,
    "scale": 10000
   },
   {
    "level": 9,
    "resolution": 3.2552083333333335,
    "scale": 5000
   },
   {
    "level": 10,
    "resolution": 1.9531250000000002,
    "scale": 3000
   },
   {
    "level": 11,
    "resolution": 0.9765625000000001,
    "scale": 1500
   },
   {
    "level": 12,
    "resolution": 0.32552083333333337,
    "scale": 500
   }
  ]
 },
 "storageInfo": {
  "storageFormat": "esriMapCacheStorageModeCompact",
  "packetSize": 128
 },
 "initialExtent": {
  "xmin": 583764.421323386,
  "ymin": 741162.1490950675,
  "xmax": 823241.2466770068,
  "ymax": 928187.1919044219,
  "spatialReference": {
   "wkid": 102715,
   "latestWkid": 2260,
   "xyTolerance": 0.0032808333333333335,
   "zTolerance": 2.0E-4,
   "mTolerance": 2.0E-4,
   "falseX": -17954600,
   "falseY": -46918100,
   "xyUnits": 1.3725506987923574E8,
   "falseZ": -100000,
   "zUnits": 10000,
   "falseM": -100000,
   "mUnits": 10000
  }
 },
 "fullExtent": {
  "xmin": 580777.330874963,
  "ymin": 735599.08125,
  "xmax": 826011.078027295,
  "ymax": 933750.25975,
  "spatialReference": {
   "wkid": 102715,
   "latestWkid": 2260,
   "xyTolerance": 0.0032808333333333335,
   "zTolerance": 2.0E-4,
   "mTolerance": 2.0E-4,
   "falseX": -17954600,
   "falseY": -46918100,
   "xyUnits": 1.3725506987923574E8,
   "falseZ": -100000,
   "zUnits": 10000,
   "falseM": -100000,
   "mUnits": 10000
  }
 },
 "datesInUnknownTimezone": false,
 "minScale": 400000,
 "maxScale": 500,
 "units": "esriFeet",
 "supportedImageFormatTypes": "PNG32,PNG24,PNG,JPG,DIB,TIFF,EMF,PS,PDF,GIF,SVG,SVGZ,BMP",
 "documentInfo": {
  "Title": "Westchester County Digital Elevation Model",
  "Author": "",
  "Comments": "This data represents a Digital Elevation Model (DEM), or bare-earth elevation surface, of the County of Westchester, New York, in a grid where each grid cell is 3-meters (9.84 feet) by 3-meters. This grid was produced from LiDAR data acquired in spring, 2009.",
  "Subject": "Elevation Model is a 3-meter grid of bare-ground elevation from year-2009 LiDAR data.",
  "Category": "",
  "Version": "2.6.0",
  "AntialiasingMode": "None",
  "TextAntialiasingMode": "Force",
  "Keywords": "DigitalElevationModel,MapServer"
 },
 "supportsQueryDomains": true,
 "capabilities": "Map,Query,Data",
 "supportedQueryFormats": "JSON, geoJSON, PBF",
 "exportTilesAllowed": false,
 "referenceScale": 0.0,
 "datumTransformations": [
  {
   "geoTransforms": [
    {
     "wkid": 108001,
     "latestWkid": 1241,
     "transformForward": true,
     "name": "NAD_1927_To_NAD_1983_NADCON"
    }
   ]
  },
  {
   "geoTransforms": [
    {
     "wkid": 108001,
     "latestWkid": 1241,
     "transformForward": false,
     "name": "NAD_1927_To_NAD_1983_NADCON"
    }
   ]
  }
 ],
 "supportsDatumTransformation": true,
 "archivingInfo": {
  "supportsHistoricMoment": false
 },
 "supportsClipping": true,
 "supportsSpatialFilter": true,
 "supportsTimeRelation": true,
 "supportsQueryDataElements": true,
 "mapUnits": {
  "uwkid": 9003
 },
 "maxSelectionCount": 2000,
 "maxRecordCount": 1000,
 "maxImageHeight": 4096,
 "maxImageWidth": 4096,
 "supportedExtensions": "KmlServer",
 "serviceItemId": "f446e054bc2d42cb8d27412e4d6b4eca"
}
