{
 "currentVersion": 11.5,
 "cimVersion": "3.5.0",
 "serviceDescription": "This dataset consists of 6-inch pixel resolution, four band orthoimages covering the entire Westchester County NY with a buffer of 1000 ft. An orthoimage is remotely sensed image data in which displacement of features in the image caused by terrain relief and sensor orientation have been mathematically removed. Orthoimagery combines the image characteristics of a photograph with the geometric qualities of a map. The digital imagery was captured on April 14 and April 26, 2018.",
 "mapName": "Layers",
 "description": "This dataset consists of 6-inch pixel resolution, four band orthoimages covering the entire Westchester County NY with a buffer of 1000 ft. An orthoimage is remotely sensed image data in which displacement of features in the image caused by terrain relief and sensor orientation have been mathematically removed. Orthoimagery combines the image characteristics of a photograph with the geometric qualities of a map. The digital imagery was captured on April 14 and April 26, 2018.",
 "copyrightText": "2018 Aerial Photo",
 "supportsDynamicLayers": true,
 "layers": [
  {
   "id": 0,
   "name": "2018 Aerial Photos",
   "parentLayerId": -1,
   "defaultVisibility": true,
   "subLayerIds": [
    1,
    2,
    3
   ],
   "minScale": 0,
   "maxScale": 0,
   "type": "Mosaic Layer",
   "supportsDynamicLegends": false
  },
  {
   "id": 1,
   "name": "Boundary",
   "parentLayerId": 0,
   "defaultVisibility": false,
   "subLayerIds": null,
   "minScale": 0,
   "maxScale": 0,
   "type": "Feature Layer",
   "geometryType": "esriGeometryPolygon",
   "supportsDynamicLegends": true
  },
  {
   "id": 2,
   "name": "Footprint",
   "parentLayerId": 0,
   "defaultVisibility": false,
   "subLayerIds": null,
   "minScale": 0,
   "maxScale": 0,
   "type": "Feature Layer",
   "geometryType": "esriGeometryPolygon",
   "supportsDynamicLegends": true
  },
  {
   "id": 3,
   "name": "Image",
   "parentLayerId": 0,
   "defaultVisibility": true,
   "subLayerIds": null,
   "minScale": 0,
   "maxScale": 0,
   "type": "Raster Layer",
   "supportsDynamicLegends": true
  }
 ],
 "tables": [],
 "spatialReference": {
  "wkid": 102715,
  "latestWkid": 2260,
  "xyTolerance": 0.00328083333333333,
  "zTolerance": 2,
  "mTolerance": 0.001,
  "falseX": -17954600,
  "falseY": -46918100,
  "xyUnits": 1.3725506987923574E8,
  "falseZ": 0,
  "zUnits": 1,
  "falseM": -100000,
  "mUnits": 10000
 },
 "singleFusedMapCache": true,
 "tileInfo": {
  "rows": 512,
  "cols": 512,
  "dpi": 128,
  "format": "JPEG",
  "compressionQuality": 75,
  "origin": {
   "x": -17954600,
   "y": 18705700
  },
  "spatialReference": {
   "wkid": 102715,
   "latestWkid": 2260,
   "xyTolerance": 0.00328083333333333,
   "zTolerance": 2,
   "mTolerance": 0.001,
   "falseX": -17954600,
   "falseY": -46918100,
   "xyUnits": 1.3725506987923574E8,
   "falseZ": 0,
   "zUnits": 1,
   "falseM": -100000,
   "mUnits": 10000
  },
  "lods": [
   {
    "level": 0,
    "resolution": 260.41666666666663,
    "scale": 400000
   },
   {
    "level": 1,
    "resolution": 175.78125,
    "scale": 270000
   },
   {
    "level": 2,
    "resolution": 130.20833333333331,
    "scale": 200000
   },
   {
    "level": 3,
    "resolution": 97.65625,
    "scale": 150000
   },
   {
    "level": 4,
    "resolution": 65.10416666666666,
    "scale": 100000
   },
   {
    "level": 5,
    "resolution": 32.55208333333333,
    "scale": 50000
   },
   {
    "level": 6,
    "resolution": 22.786458333333332,
    "scale": 35000
   },
   {
    "level": 7,
    "resolution": 13.020833333333332,
    "scale": 20000
   },
   {
    "level": 8,
    "resolution": 6.510416666666666,
    "scale": 10000
   },
   {
    "level": 9,
    "resolution": 3.255208333333333,
    "scale": 5000
   },
   {
    "level": 10,
    "resolution": 1.953125,
    "scale": 3000
   },
   {
    "level": 11,
    "resolution": 0.9765625,
    "scale": 1500
   },
   {
    "level": 12,
    "resolution": 0.3255208333333333,
    "scale": 500
   }
  ]
 },
 "storageInfo": {
  "storageFormat": "esriMapCacheStorageModeCompactV2",
  "packetSize": 128
 },
 "initialExtent": {
  "xmin": 575735.12730297,
  "ymin": 736000.0001860999,
  "xmax": 829264.8723454629,
  "ymax": 934000.0001860999,
  "spatialReference": {
   "wkid": 102715,
   "latestWkid": 2260,
   "xyTolerance": 0.00328083333333333,
   "zTolerance": 2,
   "mTolerance": 0.001,
   "falseX": -17954600,
   "falseY": -46918100,
   "xyUnits": 1.3725506987923574E8,
   "falseZ": 0,
   "zUnits": 1,
   "falseM": -100000,
   "mUnits": 10000
  }
 },
 "fullExtent": {
  "xmin": 632499.9998242165,
  "ymin": 745000.0000529066,
  "xmax": 772500.0001214126,
  "ymax": 925000.0001860999,
  "spatialReference": {
   "wkid": 102715,
   "latestWkid": 2260,
   "xyTolerance": 0.00328083333333333,
   "zTolerance": 2,
   "mTolerance": 0.001,
   "falseX": -17954600,
   "falseY": -46918100,
   "xyUnits": 1.3725506987923574E8,
   "falseZ": 0,
   "zUnits": 1,
   "falseM": -100000,
   "mUnits": 10000
  }
 },
 "datesInUnknownTimezone": false,
 "minScale": 400000,
 "maxScale": 500,
 "units": "esriFeet",
 "supportedImageFormatTypes": "PNG32,PNG24,PNG,JPG,DIB,TIFF,EMF,PS,PDF,GIF,SVG,SVGZ,BMP",
 "documentInfo": {
  "Title": "MappingWestchesterCounty_AerialPhoto2018",
  "Author": "",
  "Comments": "This dataset consists of 6-inch pixel resolution, four band orthoimages covering the entire Westchester County NY with a buffer of 1000 ft. An orthoimage is remotely sensed image data in which displacement of features in the image caused by terrain relief and sensor orientation have been mathematically removed. Orthoimagery combines the image characteristics of a photograph with the geometric qualities of a map. The digital imagery was captured on April 14 and April 26, 2018.",
  "Subject": "",
  "Category": "",
  "Version": "2.6.0",
  "AntialiasingMode": "None",
  "TextAntialiasingMode": "Force",
  "Keywords": "MappingWestchesterCounty_AerialPhoto2018,MapServer"
 },
 "supportsQueryDomains": true,
 "capabilities": "Map,Query,Data",
 "supportedQueryFormats": "JSON, geoJSON, PBF",
 "exportTilesAllowed": false,
 "referenceScale": 0.0,
 "datumTransformations": [
  {
   "geoTransforms": [
    {
     "wkid": 108001,
     "latestWkid": 1241,
     "transformForward": true,
     "name": "NAD_1927_To_NAD_1983_NADCON"
    }
   ]
  },
  {
   "geoTransforms": [
    {
     "wkid": 108001,
     "latestWkid": 1241,
     "transformForward": false,
     "name": "NAD_1927_To_NAD_1983_NADCON"
    }
   ]
  }
 ],
 "supportsDatumTransformation": true,
 "archivingInfo": {
  "supportsHistoricMoment": false
 },
 "supportsClipping": true,
 "supportsSpatialFilter": true,
 "supportsTimeRelation": true,
 "supportsQueryDataElements": true,
 "mapUnits": {
  "uwkid": 9003
 },
 "maxSelectionCount": 2000,
 "maxRecordCount": 1000,
 "maxImageHeight": 4096,
 "maxImageWidth": 4096,
 "supportedExtensions": "KmlServer",
 "serviceItemId": "3fbb64cb876f459293b75f5850467bde"
}
