<?xml version="1.0" encoding="UTF-8" standalone="no"?>
<metadata xml:lang="en">
  <Esri>
    <CreaDate>20260209</CreaDate>
    <CreaTime>11463100</CreaTime>
    <ArcGISFormat>1.0</ArcGISFormat>
    <SyncOnce>FALSE</SyncOnce>
    <DataProperties>
      <itemProps>
        <imsContentType>002</imsContentType>
        <itemName Sync="TRUE">AerialPhoto2025_6</itemName>
        <nativeExtBox>
          <westBL Sync="TRUE">632999.999922</westBL>
          <eastBL Sync="TRUE">776999.999922</eastBL>
          <southBL Sync="TRUE">735999.999929</southBL>
          <northBL Sync="TRUE">925999.999929</northBL>
          <exTypeCode Sync="TRUE">1</exTypeCode>
        </nativeExtBox>
      </itemProps>
      <coordRef>
        <type Sync="TRUE">Projected</type>
        <geogcsn Sync="TRUE">GCS_North_American_1983</geogcsn>
        <csUnits Sync="TRUE">Linear Unit: Foot_US (0.304801)</csUnits>
        <projcsn Sync="TRUE">NAD_1983_StatePlane_New_York_East_FIPS_3101_Feet</projcsn>
        <peXml Sync="TRUE">&lt;ProjectedCoordinateSystem xsi:type='typens:ProjectedCoordinateSystem' xmlns:xsi='http://www.w3.org/2001/XMLSchema-instance' xmlns:xs='http://www.w3.org/2001/XMLSchema' xmlns:typens='http://www.esri.com/schemas/ArcGIS/3.5.0'&gt;&lt;WKT&gt;PROJCS[&amp;quot;NAD_1983_StatePlane_New_York_East_FIPS_3101_Feet&amp;quot;,GEOGCS[&amp;quot;GCS_North_American_1983&amp;quot;,DATUM[&amp;quot;D_North_American_1983&amp;quot;,SPHEROID[&amp;quot;GRS_1980&amp;quot;,6378137.0,298.257222101]],PRIMEM[&amp;quot;Greenwich&amp;quot;,0.0],UNIT[&amp;quot;Degree&amp;quot;,0.0174532925199433]],PROJECTION[&amp;quot;Transverse_Mercator&amp;quot;],PARAMETER[&amp;quot;False_Easting&amp;quot;,492125.0],PARAMETER[&amp;quot;False_Northing&amp;quot;,0.0],PARAMETER[&amp;quot;Central_Meridian&amp;quot;,-74.5],PARAMETER[&amp;quot;Scale_Factor&amp;quot;,0.9999],PARAMETER[&amp;quot;Latitude_Of_Origin&amp;quot;,38.83333333333334],UNIT[&amp;quot;Foot_US&amp;quot;,0.3048006096012192],AUTHORITY[&amp;quot;EPSG&amp;quot;,2260]]&lt;/WKT&gt;&lt;XOrigin&gt;-17954600&lt;/XOrigin&gt;&lt;YOrigin&gt;-46918100&lt;/YOrigin&gt;&lt;XYScale&gt;137255069.87923574&lt;/XYScale&gt;&lt;ZOrigin&gt;-100000&lt;/ZOrigin&gt;&lt;ZScale&gt;10000&lt;/ZScale&gt;&lt;MOrigin&gt;-100000&lt;/MOrigin&gt;&lt;MScale&gt;10000&lt;/MScale&gt;&lt;XYTolerance&gt;0.0032808333333333331&lt;/XYTolerance&gt;&lt;ZTolerance&gt;0.001&lt;/ZTolerance&gt;&lt;MTolerance&gt;0.001&lt;/MTolerance&gt;&lt;HighPrecision&gt;true&lt;/HighPrecision&gt;&lt;WKID&gt;102715&lt;/WKID&gt;&lt;LatestWKID&gt;2260&lt;/LatestWKID&gt;&lt;/ProjectedCoordinateSystem&gt;</peXml>
      </coordRef>
      <RasterProperties>
        <General>
          <PixelDepth Sync="TRUE">8</PixelDepth>
          <HasColormap Sync="TRUE">FALSE</HasColormap>
          <CompressionType Sync="TRUE">None</CompressionType>
          <NumBands Sync="TRUE">4</NumBands>
          <Format Sync="TRUE">AMD</Format>
          <HasPyramids Sync="TRUE">TRUE</HasPyramids>
          <SourceType Sync="TRUE">continuous</SourceType>
          <PixelType Sync="TRUE">unsigned integer</PixelType>
          <NoDataValue Sync="TRUE">
					</NoDataValue>
        </General>
        <Properties>
          <MaxImageHeight Sync="TRUE">4100</MaxImageHeight>
          <MaxImageWidth Sync="TRUE">15000</MaxImageWidth>
          <MaxRecordCount Sync="TRUE">1000</MaxRecordCount>
          <MaxDownloadImageCount Sync="TRUE">20</MaxDownloadImageCount>
          <MaxDownloadSizeLimit Sync="TRUE">2048</MaxDownloadSizeLimit>
          <MaxMosaicImageCount Sync="TRUE">20</MaxMosaicImageCount>
          <DefaultCompressionQuality Sync="TRUE">75</DefaultCompressionQuality>
          <DefaultCompressionTolerance Sync="TRUE">0.01</DefaultCompressionTolerance>
          <BlendWidth Sync="TRUE">10</BlendWidth>
          <ViewpointSpacingX Sync="TRUE">600</ViewpointSpacingX>
          <ViewpointSpacingY Sync="TRUE">300</ViewpointSpacingY>
          <AllowedItemMetadata Sync="TRUE">Basic</AllowedItemMetadata>
          <DefaultResamplingMethod Sync="TRUE">1</DefaultResamplingMethod>
          <AllowedMosaicMethods Sync="TRUE">NorthWest,Center,LockRaster,ByAttribute,Nadir,Viewpoint,Seamline,None</AllowedMosaicMethods>
          <AllowedCompressions Sync="TRUE">None,JPEG,LZ77,LERC</AllowedCompressions>
          <AllowedMensurationCapabilities Sync="TRUE">None</AllowedMensurationCapabilities>
          <AvailableMensurationCapabilities Sync="TRUE">None,Basic,Base-Top Height,Top-Top Shadow Height,Base-Top Shadow Height,3D</AvailableMensurationCapabilities>
          <ClipToBoundary Sync="TRUE">-1</ClipToBoundary>
          <FootprintMayContainNoData Sync="TRUE">-1</FootprintMayContainNoData>
          <CellSizeTolerance Sync="TRUE">0.8</CellSizeTolerance>
          <MinimumPixelContribution Sync="TRUE">1</MinimumPixelContribution>
          <AvailableMosaicMethods Sync="TRUE">NorthWest,Center,LockRaster,ByAttribute,Nadir,Viewpoint,Seamline,None</AvailableMosaicMethods>
          <AvailableCompressionMethods Sync="TRUE">None,JPEG,LZ77,LERC</AvailableCompressionMethods>
          <AvailableItemMetadataLevels Sync="TRUE">None,Basic,Full</AvailableItemMetadataLevels>
          <BandDefinitionKeyword Sync="TRUE">NONE</BandDefinitionKeyword>
          <_docversion_ Sync="TRUE">10</_docversion_>
          <AllowedFields Sync="TRUE">Name,MinPS,MaxPS,LowPS,HighPS,Tag,GroupName,ProductName,CenterX,CenterY,ZOrder,Shape_Length,Shape_Area</AllowedFields>
          <MaxCellSize Sync="TRUE">36450</MaxCellSize>
          <LowCellSize Sync="TRUE">0.5</LowCellSize>
          <HighCellSize Sync="TRUE">1</HighCellSize>
        </Properties>
        <Functions Sync="TRUE">
          <Function Description="Performs on-the-fly mosaic on a raster catalog." Name="Mosaic Function">
					</Function>
        </Functions>
      </RasterProperties>
    </DataProperties>
    <SyncDate>20260210</SyncDate>
    <SyncTime>09304700</SyncTime>
    <ModDate>20260210</ModDate>
    <ModTime>09304700</ModTime>
  </Esri>
  <mdChar>
    <CharSetCd value="004">
		</CharSetCd>
  </mdChar>
  <mdHrLv>
    <ScopeCd value="005">
		</ScopeCd>
  </mdHrLv>
  <mdContact>
    <rpIndName>Tim Ruhren</rpIndName>
    <rpOrgName>NYS ITS Geospatial Services</rpOrgName>
    <rpCntInfo>
      <cntPhone>
        <voiceNum>518-242-5029</voiceNum>
      </cntPhone>
      <cntAddress addressType="both">
        <delPoint>1220 Washington Avenue, Building 5 - Ground Floor</delPoint>
        <city>Albany</city>
        <adminArea>New York</adminArea>
        <postCode>12226</postCode>
        <eMailAdd>nysgis@its.ny.gov</eMailAdd>
      </cntAddress>
    </rpCntInfo>
    <role>
      <RoleCd value="007">
			</RoleCd>
    </role>
  </mdContact>
  <mdDateSt>20250811</mdDateSt>
  <mdStanName>ArcGIS Metadata</mdStanName>
  <mdStanVer>1.0</mdStanVer>
  <distInfo>
	</distInfo>
  <dataIdInfo>
    <idCitation>
      <resTitle>MappingWestchesterCounty_AerialPhoto2025</resTitle>
      <date>
        <pubDate>2025-08-08</pubDate>
      </date>
      <citRespParty>
        <rpOrgName>NYS Office of Information Technology Services, Geospatial Services</rpOrgName>
        <role>
          <RoleCd value="006">
					</RoleCd>
        </role>
      </citRespParty>
      <citRespParty>
        <rpOrgName>NYS ITS Geospatial Services</rpOrgName>
        <rpCntInfo>
          <cntAddress>
            <delPoint>Albany, New York</delPoint>
          </cntAddress>
        </rpCntInfo>
        <role>
          <RoleCd value="010">
					</RoleCd>
        </role>
      </citRespParty>
      <presForm>
        <PresFormCd value="005">
				</PresFormCd>
      </presForm>
      <presForm>
        <fgdcGeoform>raster digital data</fgdcGeoform>
      </presForm>
      <datasetSeries>
        <seriesName>NYS Digital Ortho-imagery Program (NYSDOP)</seriesName>
        <issId>2025 imagery in Westchester County, NY</issId>
      </datasetSeries>
    </idCitation>
    <idAbs>These files contain 2025 digital Orthoimagery of Westchester County, New York. Image pixel size is 0.5' GSD. Image type is 4-band, RGB &amp; NIR. Image horizontal accuracy is within 2 feet at the 95% confidence level (NSSDA). Each file contains an image covering 2000 feet by 3000 feet on the ground.</idAbs>
    <idPurp>This digital Orthoimagery can serve a variety of purposes, from general planning to field reference for spatial analysis to a tool for revision of vector maps. It can also serve as a reference layer for GIS.</idPurp>
    <idCredit>NYS Office of Information Technology Services - Geospatial Services</idCredit>
    <idStatus>
      <ProgCd value="001">
			</ProgCd>
    </idStatus>
    <idPoC>
      <rpIndName>Tim Ruhren</rpIndName>
      <rpOrgName>NYS ITS Geospatial Services</rpOrgName>
      <rpCntInfo>
        <cntPhone>
          <voiceNum>518-242-5029</voiceNum>
        </cntPhone>
        <cntAddress addressType="both">
          <delPoint>1220 Washington Avenue, Building 5 - Ground Floor</delPoint>
          <city>Albany</city>
          <adminArea>New York</adminArea>
          <postCode>12226</postCode>
          <country>US</country>
          <eMailAdd>nysgis@its.ny.gov</eMailAdd>
        </cntAddress>
      </rpCntInfo>
      <role>
        <RoleCd value="007">
				</RoleCd>
      </role>
    </idPoC>
    <resMaint>
      <maintFreq>
        <MaintFreqCd value="010">
				</MaintFreqCd>
      </maintFreq>
    </resMaint>
    <placeKeys>
      <keyword>Westchester County</keyword>
      <keyword>New York</keyword>
    </placeKeys>
    <themeKeys>
      <keyword>Ortho Photo</keyword>
      <keyword>Digital Orthoimagery</keyword>
    </themeKeys>
    <searchKeys>
      <keyword>Ortho Photo</keyword>
      <keyword>Digital Orthoimagery</keyword>
      <keyword>Westchester County</keyword>
      <keyword>New York</keyword>
    </searchKeys>
    <resConst>
      <LegConsts>
        <useLimit>None</useLimit>
      </LegConsts>
      <Consts>
        <useLimit/>
      </Consts>
    </resConst>
    <spatRpType>
      <SpatRepTypCd value="001">
			</SpatRepTypCd>
    </spatRpType>
    <envirDesc>ArcGIS Pro 3.4; ArcCatalog 10.8; Global Mapper v26.1; UltraMap v6.4.1.1; OrthoVista v14</envirDesc>
    <dataExt>
      <geoEle>
        <GeoBndBox>
          <exTypeCode>true</exTypeCode>
          <westBL>-73.9907</westBL>
          <eastBL>-73.4620</eastBL>
          <northBL>41.3744</northBL>
          <southBL>40.8494</southBL>
        </GeoBndBox>
      </geoEle>
    </dataExt>
    <dataExt>
      <exDesc>ground condition</exDesc>
      <tempEle>
        <TempExtent>
          <exTemp>
            <TM_Instant>
              <tmPosition>2025-04-09</tmPosition>
            </TM_Instant>
          </exTemp>
        </TempExtent>
      </tempEle>
      <tempEle>
        <TempExtent>
          <exTemp>
            <TM_Instant>
              <tmPosition>2025-04-28</tmPosition>
            </TM_Instant>
          </exTemp>
        </TempExtent>
      </tempEle>
      <geoEle>
			</geoEle>
    </dataExt>
    <dataLang>
      <languageCode Sync="TRUE" value="eng">
			</languageCode>
      <countryCode Sync="TRUE" value="USA">
			</countryCode>
    </dataLang>
    <dataExt>
      <geoEle>
        <GeoBndBox esriExtentType="search">
          <exTypeCode Sync="TRUE">1</exTypeCode>
          <westBL Sync="TRUE">-73.990726</westBL>
          <eastBL Sync="TRUE">-73.462035</eastBL>
          <northBL Sync="TRUE">41.374354</northBL>
          <southBL Sync="TRUE">40.849383</southBL>
        </GeoBndBox>
      </geoEle>
    </dataExt>
  </dataIdInfo>
  <dqInfo>
    <dqScope>
      <scpLvl>
        <ScopeCd value="005">
				</ScopeCd>
      </scpLvl>
    </dqScope>
    <report type="DQQuanAttAcc">
      <measDesc>Not Applicable</measDesc>
    </report>
    <report type="DQConcConsis">
      <measDesc>The New York State Office of Information Technology Services makes no claims to the accuracy of the information in this file. THE GIS DATA IS PROVIDED AS IS AND WITHOUT ANY WARRANTY, EXPRESS OR IMPLIED, AS TO THEIR PERFORMANCE, MERCHANTABILITY, OR FITNESS FOR ANY PARTICULAR PURPOSE. NYS ITS does not represent or warrant that the GIS data is error-free, complete, current, or accurate. The file naming convention was supplied by New York State. When the ortho tiles were created the file names were restricted to a numeric value representing the lower left corner of the ortho tile. These tiles were then all renamed using a batch script so that they reflected the N.Y. state standard (i.e. "e_06330878_06_12600_4bd_2025.tif"). Consistency of file naming was ensured by using a batch process. The file naming convention consists of the first letter for Central, East, West or Long Island for New York State Plane Coordinate Systems (NYSPCS). The following four numeric characters represent the first four characters of the "X" coordinate value for the tile's lower left corner coordinate in NYSPCS and the next four characters represent the first four characters of the "Y" coordinate value for the tile's lower left corner coordinate in NYSPCS. The next two numeric characters represent the tile's Ground Sampling Distance (GSD) value in ft. The following five numeric characters represent the Above Mean Terrain (AMT) nominal height at which the Ultracam sensor recorded or collected the original imagery for the corresponding area. The next three characters are "4bd" for 4-band orthophotos. Lastly, the last four numeric digits represent the year in which the particular ortho was created.</measDesc>
    </report>
    <report type="DQCompOm">
      <measDesc>The project consisted of 2868 final tiles.</measDesc>
    </report>
    <report dimension="horizontal" type="DQAbsExtPosAcc">
      <measDesc>+/-2 ft. at the 95% confidence level (NSSDA) for 6 inch resolution.</measDesc>
    </report>
    <report dimension="vertical" type="DQAbsExtPosAcc">
      <measDesc>NA</measDesc>
    </report>
    <dataLineage>
      <prcStep>
        <stepDesc>The Digital Natural Color aerial imagery was acquired in April 2025 using a Microsoft Ultracam Eagle sensor flown at a nominal height of 12600' AMT (Above Mean Terrain). GNSS/IMU data was also collected and processed using POSPac (version 8.8) Mobile Mapping Suite. The Ground Control used to support the 4-band ortho-imagery production was collected by identifying and surveying photo identifiable points (PID), using existing PIDs. The Aerial Triangulation (AT) was performed using Inpho Match-AT software.  Digital Elevation Models (DEM) used for ortho imagery production were supplied by the state and updated as needed. The images were then orthorectified using Inpho OrthoMaster software. Color balancing, seamless mosaicking was performed by automatic seam line creation steps, and final extractions were also accomplished using Inpho OrthoVista software. A final radiometric correction was performed using Adobe PhotoShop software. The imagery product deliverables are GeoTIFF images with embedded header information describing the required projection, pixel size, tile size and other related data and corresponding world files (.tfw). Derivative compressed imagery is also available in JP2000 format.</stepDesc>
        <stepDateTm>2025-08-08</stepDateTm>
        <stepProc>
          <rpIndName>Shawn Benham</rpIndName>
          <rpOrgName>The Sanborn Map Company, Inc.</rpOrgName>
          <rpPosName>Vice President of Programs</rpPosName>
          <rpCntInfo>
            <cntPhone>
              <voiceNum>719-502-1296</voiceNum>
            </cntPhone>
            <cntAddress addressType="postal">
              <delPoint>305 S. Rockrimmon Blvd., Suite 200</delPoint>
              <city>Colorado Springs</city>
              <adminArea>Colorado</adminArea>
              <postCode>80919</postCode>
              <country>US</country>
              <eMailAdd>sbenham@sanborn.com</eMailAdd>
            </cntAddress>
          </rpCntInfo>
          <role>
            <RoleCd value="009">
						</RoleCd>
          </role>
        </stepProc>
        <stepSrc type="produced">
          <srcCitatn>
            <resAltTitle>Aerial Imagery</resAltTitle>
          </srcCitatn>
        </stepSrc>
      </prcStep>
    </dataLineage>
  </dqInfo>
  <spatRepInfo>
    <VectSpatRep>
      <geometObjs>
        <geoObjTyp>
          <GeoObjTypCd value="001">
					</GeoObjTypCd>
        </geoObjTyp>
        <geoObjCnt>2868</geoObjCnt>
      </geometObjs>
    </VectSpatRep>
    <Georect>
      <cellGeo>
        <CellGeoCd Sync="TRUE" value="002">
				</CellGeoCd>
      </cellGeo>
      <numDims Sync="TRUE">2</numDims>
      <tranParaAv Sync="TRUE">1</tranParaAv>
      <chkPtAv Sync="TRUE">0</chkPtAv>
      <cornerPts>
        <pos Sync="TRUE">632999.999922 735999.999929</pos>
      </cornerPts>
      <cornerPts>
        <pos Sync="TRUE">632999.999922 925999.999929</pos>
      </cornerPts>
      <cornerPts>
        <pos Sync="TRUE">776999.999922 925999.999929</pos>
      </cornerPts>
      <cornerPts>
        <pos Sync="TRUE">776999.999922 735999.999929</pos>
      </cornerPts>
      <centerPt>
        <pos Sync="TRUE">704999.999922 830999.999929</pos>
      </centerPt>
      <axisDimension type="002">
        <dimSize Sync="TRUE">288000</dimSize>
        <dimResol>
          <value Sync="TRUE" uom="ftUS">0.500000</value>
        </dimResol>
      </axisDimension>
      <axisDimension type="001">
        <dimSize Sync="TRUE">380000</dimSize>
        <dimResol>
          <value Sync="TRUE" uom="ftUS">0.500000</value>
        </dimResol>
      </axisDimension>
      <ptInPixel>
        <PixOrientCd Sync="TRUE" value="001">
				</PixOrientCd>
      </ptInPixel>
    </Georect>
  </spatRepInfo>
  <mdLang>
    <languageCode Sync="TRUE" value="eng">
		</languageCode>
    <countryCode Sync="TRUE" value="USA">
		</countryCode>
  </mdLang>
  <refSysInfo>
    <RefSystem>
      <refSysID>
        <identCode Sync="TRUE" code="2260">
				</identCode>
        <idCodeSpace Sync="TRUE">EPSG</idCodeSpace>
        <idVersion Sync="TRUE">5.3(9.0.0)</idVersion>
      </refSysID>
    </RefSystem>
  </refSysInfo>
  <contInfo>
    <ImgDesc>
      <contentTyp>
        <ContentTypCd Sync="TRUE" value="001">
				</ContentTypCd>
      </contentTyp>
      <covDim>
        <Band>
          <dimDescrp Sync="TRUE">Band_1</dimDescrp>
          <maxVal Sync="TRUE">255.000000</maxVal>
          <minVal Sync="TRUE">0.000000</minVal>
          <bitsPerVal Sync="TRUE">8</bitsPerVal>
          <valUnit>
            <UOM type="length">
						</UOM>
          </valUnit>
        </Band>
        <Band>
          <dimDescrp Sync="TRUE">Band_2</dimDescrp>
          <maxVal Sync="TRUE">255.000000</maxVal>
          <minVal Sync="TRUE">0.000000</minVal>
          <bitsPerVal Sync="TRUE">8</bitsPerVal>
          <valUnit>
            <UOM type="length">
						</UOM>
          </valUnit>
        </Band>
        <Band>
          <dimDescrp Sync="TRUE">Band_3</dimDescrp>
          <maxVal Sync="TRUE">255.000000</maxVal>
          <minVal Sync="TRUE">0.000000</minVal>
          <bitsPerVal Sync="TRUE">8</bitsPerVal>
          <valUnit>
            <UOM type="length">
						</UOM>
          </valUnit>
        </Band>
        <Band>
          <dimDescrp Sync="TRUE">Band_4</dimDescrp>
          <maxVal Sync="TRUE">255.000000</maxVal>
          <minVal Sync="TRUE">0.000000</minVal>
          <bitsPerVal Sync="TRUE">8</bitsPerVal>
          <valUnit>
            <UOM type="length">
						</UOM>
          </valUnit>
        </Band>
      </covDim>
    </ImgDesc>
  </contInfo>
</metadata>
