{
 "currentVersion": 11.5,
 "serviceDescription": "LocalMunicipality/dhm2i",
 "serviceItemId": "a52ce622776c4fdbb505ef4c873c7ac8",
 "name": "LocalMunicipality/dhm2i",
 "description": "",
 "extent": {
  "xmin": 594343.200000121,
  "ymin": 4541999.999999999,
  "xmax": 597845.4000013585,
  "ymax": 4544821.200000996,
  "spatialReference": {
   "wkid": 26918,
   "latestWkid": 26918
  }
 },
 "initialExtent": {
  "xmin": 594343.200000121,
  "ymin": 4541999.999999999,
  "xmax": 597845.4000013585,
  "ymax": 4544821.200000996,
  "spatialReference": {
   "wkid": 26918,
   "latestWkid": 26918
  }
 },
 "fullExtent": {
  "xmin": 594343.200000121,
  "ymin": 4541999.999999999,
  "xmax": 597845.4000013585,
  "ymax": 4544821.200000996,
  "spatialReference": {
   "wkid": 26918,
   "latestWkid": 26918
  }
 },
 "sortableFields": "",
 "bandCount": 1,
 "pixelType": "F32",
 "minValues": [],
 "maxValues": [],
 "meanValues": [],
 "stdvValues": [],
 "serviceProperties": "Center<\/MosaicMethod>First<\/MosaicOperator>true<\/SortAscending><\/LockImageID><\/TileOrderField>0<\/TileOrderBase>0.000000<\/AvgImageSpacingX>0.000000<\/AvgImageSpacingY>0.0<\/ViewPointX>0.0<\/ViewPointY>0.0<\/ViewPointDefShiftX>0.0<\/ViewPointDefShiftY>None<\/CompressionMethod>75<\/CompressionQuality>0.010000<\/CompressionTolerance>Bilinear<\/SamplingMethod><\/ImageServiceProperties><\/ImageServer>",
 "allowedFields": "",
 "hasMultidimensions": false,
 "pixelSizeX": 0.6000000002120007,
 "pixelSizeY": 0.600000000211974,
 "meanPixelSize": 0.6000000002119874,
 "datasetFormat": "GRID",
 "uncompressedSize": 109782296,
 "blockWidth": 256,
 "blockHeight": 16,
 "compressionType": "None",
 "bandNames": [
  "dhm2i"
 ],
 "allowCopy": true,
 "allowAnalysis": true,
 "itemAccess": false,
 "inspectionCapabilities": "",
 "noDataValue": -3.4028234663852886E38,
 "noDataValues": [
  -3.4028234663852886E38
 ],
 "minPixelSize": 0,
 "maxPixelSize": 0,
 "copyrightText": "",
 "serviceDataType": "esriImageServiceDataTypeGeneric",
 "serviceSourceType": "esriImageServiceSourceTypeDataset",
 "objectIdField": "",
 "fields": [],
 "capabilities": "Image,Metadata,Mensuration",
 "defaultMosaicMethod": "Center",
 "allowedMosaicMethods": "",
 "sortField": "",
 "sortValue": null,
 "sortAscending": true,
 "mosaicOperator": "First",
 "defaultCompressionQuality": 75,
 "defaultResamplingMethod": "Bilinear",
 "maxImageHeight": 4100,
 "maxImageWidth": 15000,
 "allowRasterFunction": true,
 "rasterFunctionInfos": [
  {
   "name": "None",
   "description": "",
   "help": ""
  }
 ],
 "rasterTypeInfos": [
  {
   "name": "Raster Dataset",
   "description": "Supports all ArcGIS Raster Datasets",
   "help": ""
  }
 ],
 "mensurationCapabilities": "Basic",
 "hasHistograms": false,
 "hasColormap": false,
 "hasRasterAttributeTable": false,
 "minScale": 0,
 "maxScale": 0,
 "exportTilesAllowed": false,
 "supportsStatistics": false,
 "supportsAdvancedQueries": false,
 "editFieldsInfo": null,
 "ownershipBasedAccessControlForRasters": null,
 "allowComputeTiePoints": false,
 "useStandardizedQueries": true,
 "advancedQueryCapabilities": {
  "useStandardizedQueries": true,
  "supportsStatistics": false,
  "supportsOrderBy": false,
  "supportsDistinct": false,
  "supportsPagination": false
 },
 "spatialReference": {
  "wkid": 26918,
  "latestWkid": 26918
 }
}
