{
 "currentVersion": 10.81,
 "cimVersion": "2.6.0",
 "serviceDescription": "Planimetric Basemap service includes planimetric features, such as roadways, driveways, sidewalks, parking lots, etc. (captured and developed from Spring 2018 photography) and other core countywide data layers including municipal boundaries, lakes and parks, etc. The service also includes a countywide three-meter hillshade raster/image based on 2009 LiDAR.",
 "mapName": "Layers",
 "description": "Planimetric Basemap service includes planimetric features, such as roadways, driveways, sidewalks, parking lots, etc. (captured and developed from Spring 2018 photography) and other core countywide data layers including municipal boundaries, lakes and parks, etc. The service also includes a countywide three-meter hillshade raster/image based on 2009 LiDAR.",
 "copyrightText": "Westchester County GIS",
 "supportsDynamicLayers": true,
 "layers": [
  {
   "id": 0,
   "name": "Municipal_BoundariesAnno",
   "parentLayerId": -1,
   "defaultVisibility": true,
   "subLayerIds": [
    1
   ],
   "minScale": 0,
   "maxScale": 220000,
   "type": "Annotation Layer",
   "geometryType": "esriGeometryPolygon",
   "supportsDynamicLegends": false
  },
  {
   "id": 1,
   "name": "Default",
   "parentLayerId": 0,
   "defaultVisibility": true,
   "subLayerIds": null,
   "minScale": 0,
   "maxScale": 0,
   "supportsDynamicLegends": false
  },
  {
   "id": 2,
   "name": "Municipal Boundaries",
   "parentLayerId": -1,
   "defaultVisibility": true,
   "subLayerIds": null,
   "minScale": 0,
   "maxScale": 0,
   "type": "Feature Layer",
   "geometryType": "esriGeometryPolygon",
   "supportsDynamicLegends": true
  },
  {
   "id": 3,
   "name": "Train Stations",
   "parentLayerId": -1,
   "defaultVisibility": true,
   "subLayerIds": null,
   "minScale": 120000,
   "maxScale": 0,
   "type": "Feature Layer",
   "geometryType": "esriGeometryPoint",
   "supportsDynamicLegends": true
  },
  {
   "id": 4,
   "name": "Metro-North Rail Lines",
   "parentLayerId": -1,
   "defaultVisibility": true,
   "subLayerIds": null,
   "minScale": 120000,
   "maxScale": 0,
   "type": "Feature Layer",
   "geometryType": "esriGeometryPolyline",
   "supportsDynamicLegends": true
  },
  {
   "id": 5,
   "name": "Highways and Parkways",
   "parentLayerId": -1,
   "defaultVisibility": true,
   "subLayerIds": null,
   "minScale": 300000,
   "maxScale": 120000,
   "type": "Feature Layer",
   "geometryType": "esriGeometryPolyline",
   "supportsDynamicLegends": true
  },
  {
   "id": 6,
   "name": "Highways and Major Roads",
   "parentLayerId": -1,
   "defaultVisibility": true,
   "subLayerIds": null,
   "minScale": 119999,
   "maxScale": 40000,
   "type": "Feature Layer",
   "geometryType": "esriGeometryPolyline",
   "supportsDynamicLegends": true
  },
  {
   "id": 7,
   "name": "Roads",
   "parentLayerId": -1,
   "defaultVisibility": true,
   "subLayerIds": null,
   "minScale": 39999,
   "maxScale": 15001,
   "type": "Feature Layer",
   "geometryType": "esriGeometryPolyline",
   "supportsDynamicLegends": true
  },
  {
   "id": 8,
   "name": "Guard Rails",
   "parentLayerId": -1,
   "defaultVisibility": true,
   "subLayerIds": null,
   "minScale": 2000,
   "maxScale": 0,
   "type": "Feature Layer",
   "geometryType": "esriGeometryPolyline",
   "supportsDynamicLegends": true
  },
  {
   "id": 9,
   "name": "Road Barriers",
   "parentLayerId": -1,
   "defaultVisibility": true,
   "subLayerIds": null,
   "minScale": 2000,
   "maxScale": 0,
   "type": "Feature Layer",
   "geometryType": "esriGeometryPolyline",
   "supportsDynamicLegends": true
  },
  {
   "id": 10,
   "name": "Road Names",
   "parentLayerId": -1,
   "defaultVisibility": true,
   "subLayerIds": null,
   "minScale": 15000,
   "maxScale": 0,
   "type": "Feature Layer",
   "geometryType": "esriGeometryPolyline",
   "supportsDynamicLegends": true
  },
  {
   "id": 11,
   "name": "Bridges",
   "parentLayerId": -1,
   "defaultVisibility": true,
   "subLayerIds": null,
   "minScale": 5000,
   "maxScale": 0,
   "type": "Feature Layer",
   "geometryType": "esriGeometryPolygon",
   "supportsDynamicLegends": true
  },
  {
   "id": 12,
   "name": "Roadways",
   "parentLayerId": -1,
   "defaultVisibility": true,
   "subLayerIds": null,
   "minScale": 15000,
   "maxScale": 0,
   "type": "Feature Layer",
   "geometryType": "esriGeometryPolygon",
   "supportsDynamicLegends": true
  },
  {
   "id": 13,
   "name": "Sidewalks",
   "parentLayerId": -1,
   "defaultVisibility": true,
   "subLayerIds": null,
   "minScale": 2000,
   "maxScale": 0,
   "type": "Feature Layer",
   "geometryType": "esriGeometryPolygon",
   "supportsDynamicLegends": true
  },
  {
   "id": 14,
   "name": "Building Footprints",
   "parentLayerId": -1,
   "defaultVisibility": true,
   "subLayerIds": null,
   "minScale": 5000,
   "maxScale": 0,
   "type": "Feature Layer",
   "geometryType": "esriGeometryPolygon",
   "supportsDynamicLegends": false
  },
  {
   "id": 15,
   "name": "Building Footprints",
   "parentLayerId": -1,
   "defaultVisibility": true,
   "subLayerIds": null,
   "minScale": 5000,
   "maxScale": 0,
   "type": "Feature Layer",
   "geometryType": "esriGeometryPolygon",
   "supportsDynamicLegends": false
  },
  {
   "id": 16,
   "name": "Parking",
   "parentLayerId": -1,
   "defaultVisibility": true,
   "subLayerIds": null,
   "minScale": 5000,
   "maxScale": 0,
   "type": "Feature Layer",
   "geometryType": "esriGeometryPolygon",
   "supportsDynamicLegends": true
  },
  {
   "id": 17,
   "name": "Driveways",
   "parentLayerId": -1,
   "defaultVisibility": true,
   "subLayerIds": null,
   "minScale": 2000,
   "maxScale": 0,
   "type": "Feature Layer",
   "geometryType": "esriGeometryPolygon",
   "supportsDynamicLegends": true
  },
  {
   "id": 18,
   "name": "Lakes",
   "parentLayerId": -1,
   "defaultVisibility": true,
   "subLayerIds": null,
   "minScale": 119999,
   "maxScale": 0,
   "type": "Feature Layer",
   "geometryType": "esriGeometryPolygon",
   "supportsDynamicLegends": true
  },
  {
   "id": 19,
   "name": "Major Lakes",
   "parentLayerId": -1,
   "defaultVisibility": true,
   "subLayerIds": null,
   "minScale": 0,
   "maxScale": 120000,
   "type": "Feature Layer",
   "geometryType": "esriGeometryPolygon",
   "supportsDynamicLegends": true
  },
  {
   "id": 20,
   "name": "Streams",
   "parentLayerId": -1,
   "defaultVisibility": true,
   "subLayerIds": null,
   "minScale": 119999,
   "maxScale": 0,
   "type": "Feature Layer",
   "geometryType": "esriGeometryPolyline",
   "supportsDynamicLegends": true
  },
  {
   "id": 21,
   "name": "Parks",
   "parentLayerId": -1,
   "defaultVisibility": true,
   "subLayerIds": null,
   "minScale": 0,
   "maxScale": 0,
   "type": "Feature Layer",
   "geometryType": "esriGeometryPolygon",
   "supportsDynamicLegends": true
  },
  {
   "id": 25,
   "name": "Hillshade Relief",
   "parentLayerId": -1,
   "defaultVisibility": true,
   "subLayerIds": [
    26,
    27,
    28
   ],
   "minScale": 0,
   "maxScale": 0,
   "type": "Mosaic Layer",
   "supportsDynamicLegends": false
  },
  {
   "id": 26,
   "name": "Boundary",
   "parentLayerId": 25,
   "defaultVisibility": false,
   "subLayerIds": null,
   "minScale": 0,
   "maxScale": 0,
   "type": "Feature Layer",
   "geometryType": "esriGeometryPolygon",
   "supportsDynamicLegends": true
  },
  {
   "id": 27,
   "name": "Footprint",
   "parentLayerId": 25,
   "defaultVisibility": false,
   "subLayerIds": null,
   "minScale": 0,
   "maxScale": 0,
   "type": "Feature Layer",
   "geometryType": "esriGeometryPolygon",
   "supportsDynamicLegends": true
  },
  {
   "id": 28,
   "name": "Image",
   "parentLayerId": 25,
   "defaultVisibility": true,
   "subLayerIds": null,
   "minScale": 0,
   "maxScale": 0,
   "type": "Raster Layer",
   "supportsDynamicLegends": true
  },
  {
   "id": 23,
   "name": "Out of County Municipal Boundaries",
   "parentLayerId": -1,
   "defaultVisibility": true,
   "subLayerIds": null,
   "minScale": 0,
   "maxScale": 0,
   "type": "Feature Layer",
   "geometryType": "esriGeometryPolygon",
   "supportsDynamicLegends": true
  },
  {
   "id": 24,
   "name": "Out of County Background",
   "parentLayerId": -1,
   "defaultVisibility": true,
   "subLayerIds": null,
   "minScale": 0,
   "maxScale": 0,
   "type": "Feature Layer",
   "geometryType": "esriGeometryPolygon",
   "supportsDynamicLegends": true
  }
 ],
 "tables": [],
 "spatialReference": {
  "wkid": 102715,
  "latestWkid": 2260,
  "xyTolerance": 0.00328083333333333,
  "zTolerance": 2,
  "mTolerance": 0.001,
  "falseX": -17954600,
  "falseY": -46918100,
  "xyUnits": 1.3725506987923574E8,
  "falseZ": 0,
  "zUnits": 1,
  "falseM": -100000,
  "mUnits": 10000
 },
 "singleFusedMapCache": true,
 "tileInfo": {
  "rows": 512,
  "cols": 512,
  "dpi": 128,
  "format": "JPEG",
  "compressionQuality": 75,
  "origin": {
   "x": -17954600,
   "y": 18705700
  },
  "spatialReference": {
   "wkid": 102715,
   "latestWkid": 2260,
   "xyTolerance": 0.00328083333333333,
   "zTolerance": 2,
   "mTolerance": 0.001,
   "falseX": -17954600,
   "falseY": -46918100,
   "xyUnits": 1.3725506987923574E8,
   "falseZ": 0,
   "zUnits": 1,
   "falseM": -100000,
   "mUnits": 10000
  },
  "lods": [
   {
    "level": 0,
    "resolution": 260.41666666666663,
    "scale": 400000
   },
   {
    "level": 1,
    "resolution": 175.78125,
    "scale": 270000
   },
   {
    "level": 2,
    "resolution": 130.20833333333331,
    "scale": 200000
   },
   {
    "level": 3,
    "resolution": 97.65625,
    "scale": 150000
   },
   {
    "level": 4,
    "resolution": 65.10416666666666,
    "scale": 100000
   },
   {
    "level": 5,
    "resolution": 32.55208333333333,
    "scale": 50000
   },
   {
    "level": 6,
    "resolution": 22.786458333333332,
    "scale": 35000
   },
   {
    "level": 7,
    "resolution": 13.020833333333332,
    "scale": 20000
   },
   {
    "level": 8,
    "resolution": 6.510416666666666,
    "scale": 10000
   },
   {
    "level": 9,
    "resolution": 3.255208333333333,
    "scale": 5000
   },
   {
    "level": 10,
    "resolution": 1.953125,
    "scale": 3000
   },
   {
    "level": 11,
    "resolution": 0.9765625,
    "scale": 1500
   },
   {
    "level": 12,
    "resolution": 0.3255208333333333,
    "scale": 500
   }
  ]
 },
 "initialExtent": {
  "xmin": 580516.3688923236,
  "ymin": 740180.4190478498,
  "xmax": 814088.6125873626,
  "ymax": 925463.5696643641,
  "spatialReference": {
   "wkid": 102715,
   "latestWkid": 2260,
   "xyTolerance": 0.00328083333333333,
   "zTolerance": 2,
   "mTolerance": 0.001,
   "falseX": -17954600,
   "falseY": -46918100,
   "xyUnits": 1.3725506987923574E8,
   "falseZ": 0,
   "zUnits": 1,
   "falseM": -100000,
   "mUnits": 10000
  }
 },
 "fullExtent": {
  "xmin": 498069.85768172494,
  "ymin": 697344.9770777785,
  "xmax": 893382.3576817249,
  "ymax": 931459.5604111118,
  "spatialReference": {
   "wkid": 102715,
   "latestWkid": 2260,
   "xyTolerance": 0.00328083333333333,
   "zTolerance": 2,
   "mTolerance": 0.001,
   "falseX": -17954600,
   "falseY": -46918100,
   "xyUnits": 1.3725506987923574E8,
   "falseZ": 0,
   "zUnits": 1,
   "falseM": -100000,
   "mUnits": 10000
  }
 },
 "minScale": 400000,
 "maxScale": 500,
 "units": "esriFeet",
 "supportedImageFormatTypes": "PNG32,PNG24,PNG,JPG,DIB,TIFF,EMF,PS,PDF,GIF,SVG,SVGZ,BMP",
 "documentInfo": {
  "Title": "Basemap",
  "Author": "",
  "Comments": "Planimetric Basemap service includes planimetric features, such as roadways, driveways, sidewalks, parking lots, etc. (captured and developed from Spring 2018 photography) and other core countywide data layers including municipal boundaries, lakes and parks, etc. The service also includes a countywide three-meter hillshade raster/image based on 2009 LiDAR.",
  "Subject": "",
  "Category": "",
  "AntialiasingMode": "None",
  "TextAntialiasingMode": "Force",
  "Keywords": "Planimetric_Basemap,MapServer"
 },
 "supportsQueryDomains": true,
 "capabilities": "Map,Query,Data",
 "supportedQueryFormats": "JSON, geoJSON, PBF",
 "exportTilesAllowed": false,
 "referenceScale": 0.0,
 "supportsDatumTransformation": true,
 "archivingInfo": {
  "supportsHistoricMoment": false
 },
 "supportsClipping": true,
 "supportsSpatialFilter": true,
 "supportsQueryDataElements": true,
 "maxRecordCount": 1000,
 "maxImageHeight": 4096,
 "maxImageWidth": 4096,
 "supportedExtensions": "KmlServer",
 "resampling": false,
 "serviceItemId": "9af880217ccd4330a7d7336c0adaa56b"
}
