View In:
ArcGIS JavaScript
ArcGIS Online Map Viewer
ArcGIS Earth
Service Description: Raster image for Irvington NRI
Name: LocalMunicipality/dhm2i
Description: Raster image for Irvington NRI
Single Fused Map Cache: false
Extent:
XMin: 594343.200000121
YMin: 4541999.999999999
XMax: 597845.4000013585
YMax: 4544821.200000996
Spatial Reference: 26918
(26918)
LatestVCSWkid(0)
Initial Extent:
XMin: 594343.200000121
YMin: 4541999.999999999
XMax: 597845.4000013585
YMax: 4544821.200000996
Spatial Reference: 26918
(26918)
LatestVCSWkid(0)
Full Extent:
XMin: 594343.200000121
YMin: 4541999.999999999
XMax: 597845.4000013585
YMax: 4544821.200000996
Spatial Reference: 26918
(26918)
LatestVCSWkid(0)
Pixel Size X: 0.6000000002120007
Pixel Size Y: 0.600000000211974
Band Count: 1
Pixel Type: F32
RasterFunction Infos: {"rasterFunctionInfos": [{
"name": "None",
"description": "",
"help": ""
}]}
Mensuration Capabilities: Basic
Inspection Capabilities:
Has Histograms: false
Has Colormap: false
Has Multi Dimensions : false
Rendering Rule:
Min Scale: 0
Max Scale: 0
Resampling: false
Copyright Text:
Service Data Type: esriImageServiceDataTypeGeneric
Min Values: N/A
Max Values: N/A
Mean Values: N/A
Standard Deviation Values: N/A
Object ID Field:
Fields:
None
Default Mosaic Method: Center
Allowed Mosaic Methods:
SortField:
SortValue: null
Mosaic Operator: First
Default Compression Quality: 75
Default Resampling Method: Bilinear
Max Record Count: null
Max Image Height: 4100
Max Image Width: 15000
Max Download Image Count: null
Max Mosaic Image Count: null
Allow Raster Function: true
Allow Copy: true
Allow Analysis: true
Allow Compute TiePoints: false
Supports Statistics: false
Supports Advanced Queries: false
Use StandardizedQueries: true
Raster Type Infos:
Name: Raster Dataset
Description: Supports all ArcGIS Raster Datasets
Help:
Has Raster Attribute Table: false
Edit Fields Info: null
Ownership Based AccessControl For Rasters: null
Child Resources:
Info
Statistics
Key Properties
Legend
Raster Function Infos
Supported Operations:
Export Image
Identify
Measure
Compute Histograms
Compute Statistics Histograms
Get Samples
Compute Class Statistics
Query Boundary
Compute Pixel Location
Compute Angles
Validate
Project