View In:
ArcGIS JavaScript
ArcGIS Online Map Viewer
ArcGIS Earth
Service Description: These files contain 2025 digital Orthoimagery of Westchester County, New York. Image pixel size is 0.5' GSD. Image type is 4-band, RGB & NIR. Image horizontal accuracy is within 2 feet at the 95% confidence level (NSSDA). Each file contains an image covering 2000 feet by 3000 feet on the ground.
Name: MappingWestchesterCounty_AerialPhoto2025
Description: These files contain 2025 digital Orthoimagery of Westchester County, New York. Image pixel size is 0.5' GSD. Image type is 4-band, RGB & NIR. Image horizontal accuracy is within 2 feet at the 95% confidence level (NSSDA). Each file contains an image covering 2000 feet by 3000 feet on the ground.
Single Fused Map Cache: true
Tile Info:
- Height: 512
- Width: 512
- DPI: 128
-
Levels of Detail: 13
- Format: JPEG
- Compression Quality: 75.0
- LERC Error: NaN
- Origin: X: -1.79546E7
Y: 1.87057E7
- Spatial Reference: 102715
(2260)
LatestVCSWkid(0)
Storage Info:
- Storage Format: esriMapCacheStorageModeCompactV2
- Packet Size: 128
Extent:
XMin: 632999.9999224953
YMin: 735999.9999288246
XMax: 776999.9999224953
YMax: 925999.9999288246
Spatial Reference: 102715
(2260)
LatestVCSWkid(0)
Initial Extent:
XMin: 632999.9999224953
YMin: 735999.9999288246
XMax: 776999.9999224953
YMax: 925999.9999288246
Spatial Reference: 102715
(2260)
LatestVCSWkid(0)
Full Extent:
XMin: 632999.9999224953
YMin: 735999.9999288246
XMax: 776999.9999224953
YMax: 925999.9999288246
Spatial Reference: 102715
(2260)
LatestVCSWkid(0)
Pixel Size X: 0.5
Pixel Size Y: 0.5
Band Count: 4
Pixel Type: U8
RasterFunction Infos: {"rasterFunctionInfos": [{
"name": "None",
"description": "",
"help": ""
}]}
Mensuration Capabilities: None
Inspection Capabilities:
Has Histograms: true
Has Colormap: false
Has Multi Dimensions : false
Rendering Rule:
Min Scale: 400000
Max Scale: 500
Copyright Text: NYS Office of Information Technology Services - Geospatial Services
Service Data Type: esriImageServiceDataTypeGeneric
Min Values: 0, 0, 0, 0
Max Values: 255, 255, 255, 255
Mean Values: 90.1455857083334, 108.5498568333333, 106.09221116666666, 93.53476616666677
Standard Deviation Values: 60.19444123696211, 42.686828918195395, 34.87512293201447, 62.47178487154875
Object ID Field: OBJECTID
Fields:
-
OBJECTID
(
type: esriFieldTypeOID, alias: OBJECTID
)
-
Shape
(
type: esriFieldTypeGeometry, alias: Shape
)
-
Name
(
type: esriFieldTypeString, alias: Name, length: 200
)
-
MinPS
(
type: esriFieldTypeDouble, alias: MinPS
)
-
MaxPS
(
type: esriFieldTypeDouble, alias: MaxPS
)
-
LowPS
(
type: esriFieldTypeDouble, alias: LowPS
)
-
HighPS
(
type: esriFieldTypeDouble, alias: HighPS
)
-
Category
(
type: esriFieldTypeInteger, alias: Category
,
Coded Values:
[0: Unknown]
,
[1: Primary]
,
[2: Overview]
, ...6 more...
)
-
Tag
(
type: esriFieldTypeString, alias: Tag, length: 100
)
-
GroupName
(
type: esriFieldTypeString, alias: GroupName, length: 100
)
-
ProductName
(
type: esriFieldTypeString, alias: ProductName, length: 100
)
-
CenterX
(
type: esriFieldTypeDouble, alias: CenterX
)
-
CenterY
(
type: esriFieldTypeDouble, alias: CenterY
)
-
ZOrder
(
type: esriFieldTypeInteger, alias: ZOrder
)
-
Shape_Length
(
type: esriFieldTypeDouble, alias: Shape_Length
)
-
Shape_Area
(
type: esriFieldTypeDouble, alias: Shape_Area
)
Default Mosaic Method: Northwest
Allowed Mosaic Methods: NorthWest,Center,LockRaster,ByAttribute,Nadir,Viewpoint,Seamline,None
SortField:
SortValue: null
Mosaic Operator: First
Default Compression Quality: 75
Default Resampling Method: Bilinear
Max Record Count: 1000
Max Image Height: 4100
Max Image Width: 15000
Max Download Image Count: 20
Max Mosaic Image Count: 20
Allow Raster Function: true
Allow Copy: true
Allow Analysis: true
Allow Compute TiePoints: false
Supports Statistics: true
Supports Advanced Queries: true
Use StandardizedQueries: true
Raster Type Infos:
Name: Raster Dataset
Description: Supports all ArcGIS Raster Datasets
Help:
Has Raster Attribute Table: false
Edit Fields Info: null
Ownership Based AccessControl For Rasters: null
Child Resources:
Info
Histograms
Statistics
Key Properties
Legend
Raster Function Infos
Supported Operations:
Export Image
Query
Identify
Compute Histograms
Compute Statistics Histograms
Get Samples
Compute Class Statistics
Query GPS Info
Find Images
Image to Map
Map to Image
Measure from Image
Image to Map Multiray
Query Boundary
Compute Pixel Location
Compute Angles
Validate
Project