View In:
ArcGIS JavaScript
ArcGIS Online Map Viewer
ArcGIS Earth
Service Description: Parks/Canopy_2013
Name: Parks/Canopy_2013
Description:
Single Fused Map Cache: false
Extent:
XMin: -8236394.856467201
YMin: 4992837.641116367
XMax: -8179481.074090245
YMax: 5067283.186245604
Spatial Reference: 102100
(3857)
LatestVCSWkid(0)
Initial Extent:
XMin: -8236394.856467201
YMin: 4992837.641116367
XMax: -8179481.074090245
YMax: 5067283.186245604
Spatial Reference: 102100
(3857)
LatestVCSWkid(0)
Full Extent:
XMin: -8236394.856467201
YMin: 4992837.641116367
XMax: -8179481.074090245
YMax: 5067283.186245604
Spatial Reference: 102100
(3857)
LatestVCSWkid(0)
Pixel Size X: 1.3407883145720927
Pixel Size Y: 1.3395027642592745
Band Count: 4
Pixel Type: U8
RasterFunction Infos: {"rasterFunctionInfos": [{
"name": "None",
"description": "",
"help": ""
}]}
Mensuration Capabilities: Basic
Inspection Capabilities:
Has Histograms: true
Has Colormap: false
Has Multi Dimensions : false
Rendering Rule:
Min Scale: 0
Max Scale: 0
Copyright Text:
Service Data Type: esriImageServiceDataTypeGeneric
Min Values: 91, 137, 0, 255
Max Values: 91, 137, 0, 255
Mean Values: 91, 137, 0, 255
Standard Deviation Values: 0, 0, 0, 0
Object ID Field:
Fields:
None
Default Mosaic Method: Center
Allowed Mosaic Methods:
SortField:
SortValue: null
Mosaic Operator: First
Default Compression Quality: 75
Default Resampling Method: Bilinear
Max Record Count: null
Max Image Height: 4100
Max Image Width: 15000
Max Download Image Count: null
Max Mosaic Image Count: null
Allow Raster Function: true
Allow Copy: true
Allow Analysis: true
Allow Compute TiePoints: false
Supports Statistics: false
Supports Advanced Queries: false
Use StandardizedQueries: true
Raster Type Infos:
Name: Raster Dataset
Description: Supports all ArcGIS Raster Datasets
Help:
Has Raster Attribute Table: false
Edit Fields Info: null
Ownership Based AccessControl For Rasters: null
Child Resources:
Info
Histograms
Statistics
Key Properties
Legend
Raster Function Infos
Supported Operations:
Export Image
Identify
Measure
Compute Histograms
Compute Statistics Histograms
Get Samples
Compute Class Statistics
Query Boundary
Compute Pixel Location
Compute Angles
Validate
Project